Package: scQTLtools Version: 0.99.11 Command: /home/biocbuild/bbs-3.21-bioc/R/bin/R CMD build --keep-empty-dirs --no-resave-data scQTLtools StartedAt: 2025-02-03 19:18:40 -0500 (Mon, 03 Feb 2025) EndedAt: 2025-02-03 19:20:08 -0500 (Mon, 03 Feb 2025) EllapsedTime: 88.1 seconds RetCode: 0 Status: OK PackageFile: scQTLtools_0.99.11.tar.gz PackageFileSize: 2.173 MiB