Package: scQTLtools Version: 0.99.11 Command: /Library/Frameworks/R.framework/Resources/bin/R CMD INSTALL scQTLtools StartedAt: 2025-02-03 15:39:11 -0500 (Mon, 03 Feb 2025) EndedAt: 2025-02-03 15:40:05 -0500 (Mon, 03 Feb 2025) EllapsedTime: 54.0 seconds RetCode: 0 Status: OK