Package: scQTLtools Version: 0.99.11 Command: /Library/Frameworks/R.framework/Resources/bin/R CMD check --install=check:scQTLtools.install-out.txt --library=/Library/Frameworks/R.framework/Resources/library --no-vignettes --timings scQTLtools_0.99.11.tar.gz StartedAt: 2025-02-03 23:11:37 -0500 (Mon, 03 Feb 2025) EndedAt: 2025-02-03 23:21:25 -0500 (Mon, 03 Feb 2025) EllapsedTime: 588.7 seconds RetCode: 0 Status: OK CheckDir: scQTLtools.Rcheck Warnings: 0