Package: scQTLtools Version: 0.99.11 Command: /Library/Frameworks/R.framework/Resources/bin/R CMD build --keep-empty-dirs --no-resave-data scQTLtools StartedAt: 2025-02-03 18:18:25 -0500 (Mon, 03 Feb 2025) EndedAt: 2025-02-03 18:20:18 -0500 (Mon, 03 Feb 2025) EllapsedTime: 113.4 seconds RetCode: 0 Status: OK PackageFile: scQTLtools_0.99.11.tar.gz PackageFileSize: 2.286 MiB