Package: scQTLtools Version: 0.99.11 Command: rm -rf scQTLtools.buildbin-libdir && mkdir scQTLtools.buildbin-libdir && /Users/biocbuild/BBS/utils/build-universal.sh scQTLtools_0.99.11.tar.gz /Library/Frameworks/R.framework/Resources/bin/R scQTLtools.buildbin-libdir StartedAt: 2025-02-04 00:55:29 -0500 (Tue, 04 Feb 2025) EndedAt: 2025-02-04 00:56:27 -0500 (Tue, 04 Feb 2025) EllapsedTime: 57.7 seconds RetCode: 0 Status: OK PackageFile: scQTLtools_0.99.11.tgz PackageFileSize: 2.309 MiB