Package: scQTLtools Version: 0.99.11 Command: /home/biocbuild/R/R/bin/R CMD INSTALL scQTLtools StartedAt: 2025-01-29 20:20:50 -0000 (Wed, 29 Jan 2025) EndedAt: 2025-01-29 20:21:47 -0000 (Wed, 29 Jan 2025) EllapsedTime: 57.1 seconds RetCode: 0 Status: OK