Package: scQTLtools Version: 0.99.11 Command: /Library/Frameworks/R.framework/Resources/bin/R CMD INSTALL scQTLtools StartedAt: 2025-02-03 15:56:47 -0500 (Mon, 03 Feb 2025) EndedAt: 2025-02-03 15:57:03 -0500 (Mon, 03 Feb 2025) EllapsedTime: 15.9 seconds RetCode: 0 Status: OK