############################################################################## ############################################################################## ### ### Running command: ### ### rm -rf scQTLtools.buildbin-libdir && mkdir scQTLtools.buildbin-libdir && /Users/biocbuild/BBS/utils/build-universal.sh scQTLtools_0.99.11.tar.gz /Library/Frameworks/R.framework/Resources/bin/R scQTLtools.buildbin-libdir ### ############################################################################## ############################################################################## >>>>>>> >>>>>>> INSTALLATION WITH 'R CMD INSTALL --preclean --no-multiarch --library=scQTLtools.buildbin-libdir scQTLtools_0.99.11.tar.gz' >>>>>>> * installing *source* package ‘scQTLtools’ ... ** this is package ‘scQTLtools’ version ‘0.99.11’ ** using staged installation ** R ** data ** inst ** byte-compile and prepare package for lazy loading ** help *** installing help indices ** building package indices ** installing vignettes ** testing if installed package can be loaded from temporary location ** testing if installed package can be loaded from final location ** testing if installed package keeps a record of temporary installation path * DONE (scQTLtools)