Package: scPipe Version: 2.7.1 Command: E:\biocbuild\bbs-3.21-bioc\R\bin\R.exe CMD check --no-multiarch --install=check:scPipe.install-out.txt --library=E:\biocbuild\bbs-3.21-bioc\R\library --no-vignettes --timings scPipe_2.7.1.tar.gz StartedAt: 2025-02-04 05:39:56 -0500 (Tue, 04 Feb 2025) EndedAt: 2025-02-04 05:47:58 -0500 (Tue, 04 Feb 2025) EllapsedTime: 482.5 seconds RetCode: 0 Status: OK CheckDir: scPipe.Rcheck Warnings: 0