Package: scPipe Version: 2.7.1 Command: /home/biocbuild/bbs-3.21-bioc/R/bin/R CMD INSTALL scPipe StartedAt: 2025-02-05 15:35:36 -0500 (Wed, 05 Feb 2025) EndedAt: 2025-02-05 15:37:53 -0500 (Wed, 05 Feb 2025) EllapsedTime: 136.8 seconds RetCode: 0 Status: OK