Package: scPipe Version: 2.7.1 Command: /home/biocbuild/bbs-3.21-bioc/R/bin/R CMD build --keep-empty-dirs --no-resave-data scPipe StartedAt: 2025-02-05 19:10:04 -0500 (Wed, 05 Feb 2025) EndedAt: 2025-02-05 19:14:52 -0500 (Wed, 05 Feb 2025) EllapsedTime: 288.3 seconds RetCode: 0 Status: OK PackageFile: scPipe_2.7.1.tar.gz PackageFileSize: 12.64 MiB