Package: scPipe Version: 2.7.1 Command: /home/biocbuild/R/R/bin/R CMD INSTALL scPipe StartedAt: 2025-01-29 20:14:03 -0000 (Wed, 29 Jan 2025) EndedAt: 2025-01-29 20:17:33 -0000 (Wed, 29 Jan 2025) EllapsedTime: 209.5 seconds RetCode: 0 Status: OK