Package: scPipe Version: 2.7.1 Command: /Library/Frameworks/R.framework/Resources/bin/R CMD check --install=check:scPipe.install-out.txt --library=/Library/Frameworks/R.framework/Resources/library --no-vignettes --timings scPipe_2.7.1.tar.gz StartedAt: 2025-02-03 21:50:58 -0500 (Mon, 03 Feb 2025) EndedAt: 2025-02-03 21:55:21 -0500 (Mon, 03 Feb 2025) EllapsedTime: 263.2 seconds RetCode: 0 Status: OK CheckDir: scPipe.Rcheck Warnings: 0