Package: scMitoMut Version: 1.7.0 Command: /home/biocbuild/bbs-3.23-bioc/R/bin/R CMD INSTALL scMitoMut StartedAt: 2025-11-05 15:14:33 -0500 (Wed, 05 Nov 2025) EndedAt: 2025-11-05 15:15:01 -0500 (Wed, 05 Nov 2025) EllapsedTime: 28.3 seconds RetCode: 0 Status: OK