Package: scMitoMut Version: 1.5.0 Command: /Library/Frameworks/R.framework/Resources/bin/R CMD INSTALL scMitoMut StartedAt: 2025-10-17 15:11:46 -0400 (Fri, 17 Oct 2025) EndedAt: 2025-10-17 15:12:22 -0400 (Fri, 17 Oct 2025) EllapsedTime: 36.7 seconds RetCode: 0 Status: OK