Package: scMitoMut Version: 1.5.0 Command: /Library/Frameworks/R.framework/Resources/bin/R CMD INSTALL scMitoMut StartedAt: 2025-10-07 15:04:32 -0400 (Tue, 07 Oct 2025) EndedAt: 2025-10-07 15:04:47 -0400 (Tue, 07 Oct 2025) EllapsedTime: 14.6 seconds RetCode: 0 Status: OK