Package: scMitoMut Version: 1.5.0 Command: /Library/Frameworks/R.framework/Resources/bin/R CMD build --keep-empty-dirs --no-resave-data scMitoMut StartedAt: 2025-10-07 17:40:31 -0400 (Tue, 07 Oct 2025) EndedAt: 2025-10-07 17:40:49 -0400 (Tue, 07 Oct 2025) EllapsedTime: 17.2 seconds RetCode: 0 Status: OK PackageFile: scMitoMut_1.5.0.tar.gz PackageFileSize: 1.187 MiB