Package: scMitoMut Version: 1.5.0 Command: rm -rf scMitoMut.buildbin-libdir && mkdir scMitoMut.buildbin-libdir && /Users/biocbuild/BBS/utils/build-universal.sh scMitoMut_1.5.0.tar.gz /Library/Frameworks/R.framework/Resources/bin/R scMitoMut.buildbin-libdir StartedAt: 2025-10-07 23:01:03 -0400 (Tue, 07 Oct 2025) EndedAt: 2025-10-07 23:01:11 -0400 (Tue, 07 Oct 2025) EllapsedTime: 8.1 seconds RetCode: 0 Status: OK PackageFile: scMitoMut_1.5.0.tgz PackageFileSize: 1.305 MiB