Package: scMET Version: 1.11.0 Command: /Library/Frameworks/R.framework/Resources/bin/R CMD build --keep-empty-dirs --no-resave-data scMET StartedAt: 2025-05-27 18:12:57 -0400 (Tue, 27 May 2025) EndedAt: 2025-05-27 18:16:55 -0400 (Tue, 27 May 2025) EllapsedTime: 237.9 seconds RetCode: 0 Status: OK PackageFile: scMET_1.11.0.tar.gz PackageFileSize: 3.282 MiB