Package: scMET Version: 1.11.0 Command: rm -rf scMET.buildbin-libdir && mkdir scMET.buildbin-libdir && /Users/biocbuild/BBS/utils/build-universal.sh scMET_1.11.0.tar.gz /Library/Frameworks/R.framework/Resources/bin/R scMET.buildbin-libdir StartedAt: 2025-05-28 01:00:51 -0400 (Wed, 28 May 2025) EndedAt: 2025-05-28 01:03:05 -0400 (Wed, 28 May 2025) EllapsedTime: 133.8 seconds RetCode: 0 Status: OK PackageFile: scMET_1.11.0.tgz PackageFileSize: 4.158 MiB