Package: scMET Version: 1.11.0 Command: /Library/Frameworks/R.framework/Resources/bin/R CMD check --install=check:scMET.install-out.txt --library=/Library/Frameworks/R.framework/Resources/library --no-vignettes --timings scMET_1.11.0.tar.gz StartedAt: 2025-05-06 21:51:02 -0400 (Tue, 06 May 2025) EndedAt: 2025-05-06 21:52:26 -0400 (Tue, 06 May 2025) EllapsedTime: 83.9 seconds RetCode: 0 Status: OK CheckDir: scMET.Rcheck Warnings: 0