Package: scHiCcompare Version: 1.1.0 Command: /home/biocbuild/R/R/bin/R CMD INSTALL scHiCcompare StartedAt: 2025-10-23 20:54:01 -0000 (Thu, 23 Oct 2025) EndedAt: 2025-10-23 20:54:38 -0000 (Thu, 23 Oct 2025) EllapsedTime: 36.5 seconds RetCode: 0 Status: OK