Package: scHiCcompare Version: 1.1.0 Command: /Library/Frameworks/R.framework/Resources/bin/R CMD INSTALL scHiCcompare StartedAt: 2025-10-05 15:31:05 -0400 (Sun, 05 Oct 2025) EndedAt: 2025-10-05 15:31:46 -0400 (Sun, 05 Oct 2025) EllapsedTime: 40.7 seconds RetCode: 0 Status: OK