Package: scHiCcompare Version: 1.1.0 Command: /Library/Frameworks/R.framework/Resources/bin/R CMD build --keep-empty-dirs --no-resave-data scHiCcompare StartedAt: 2025-10-05 18:50:48 -0400 (Sun, 05 Oct 2025) EndedAt: 2025-10-05 18:52:01 -0400 (Sun, 05 Oct 2025) EllapsedTime: 73.1 seconds RetCode: 0 Status: OK PackageFile: scHiCcompare_1.1.0.tar.gz PackageFileSize: 1.279 MiB