Package: scHiCcompare Version: 1.1.0 Command: rm -rf scHiCcompare.buildbin-libdir && mkdir scHiCcompare.buildbin-libdir && /Users/biocbuild/BBS/utils/build-universal.sh scHiCcompare_1.1.0.tar.gz /Library/Frameworks/R.framework/Resources/bin/R scHiCcompare.buildbin-libdir StartedAt: 2025-10-01 23:02:23 -0400 (Wed, 01 Oct 2025) EndedAt: 2025-10-01 23:02:37 -0400 (Wed, 01 Oct 2025) EllapsedTime: 13.2 seconds RetCode: 0 Status: OK PackageFile: scHiCcompare_1.1.0.tgz PackageFileSize: 1.274 MiB