Package: scHOT Version: 1.21.0 Command: rm -rf scHOT.buildbin-libdir && mkdir scHOT.buildbin-libdir && F:\biocbuild\bbs-3.22-bioc\R\bin\R.exe CMD INSTALL --build --library=scHOT.buildbin-libdir scHOT_1.21.0.tar.gz StartedAt: 2025-08-15 11:15:28 -0400 (Fri, 15 Aug 2025) EndedAt: 2025-08-15 11:16:14 -0400 (Fri, 15 Aug 2025) EllapsedTime: 45.6 seconds RetCode: 0 Status: OK PackageFile: scHOT_1.21.0.zip PackageFileSize: 2.25 MiB