Package: scHOT Version: 1.19.0 Command: E:\biocbuild\bbs-3.21-bioc\R\bin\R.exe CMD INSTALL scHOT StartedAt: 2025-02-02 16:12:47 -0500 (Sun, 02 Feb 2025) EndedAt: 2025-02-02 16:13:33 -0500 (Sun, 02 Feb 2025) EllapsedTime: 46.6 seconds RetCode: 0 Status: OK