Package: scHOT Version: 1.19.0 Command: chmod a+r scHOT -R && E:\biocbuild\bbs-3.21-bioc\R\bin\R.exe CMD build --keep-empty-dirs --no-resave-data scHOT StartedAt: 2025-02-02 21:24:04 -0500 (Sun, 02 Feb 2025) EndedAt: 2025-02-02 21:27:27 -0500 (Sun, 02 Feb 2025) EllapsedTime: 203.6 seconds RetCode: 0 Status: OK PackageFile: scHOT_1.19.0.tar.gz PackageFileSize: 1.859 MiB