Package: scHOT Version: 1.21.0 Command: /Library/Frameworks/R.framework/Resources/bin/R CMD build --keep-empty-dirs --no-resave-data scHOT StartedAt: 2025-05-02 18:17:29 -0400 (Fri, 02 May 2025) EndedAt: 2025-05-02 18:20:28 -0400 (Fri, 02 May 2025) EllapsedTime: 179.1 seconds RetCode: 0 Status: OK PackageFile: scHOT_1.21.0.tar.gz PackageFileSize: 2.314 MiB