Package: scHOT Version: 1.21.0 Command: rm -rf scHOT.buildbin-libdir && mkdir scHOT.buildbin-libdir && /Users/biocbuild/BBS/utils/build-universal.sh scHOT_1.21.0.tar.gz /Library/Frameworks/R.framework/Resources/bin/R scHOT.buildbin-libdir StartedAt: 2025-05-03 01:04:49 -0400 (Sat, 03 May 2025) EndedAt: 2025-05-03 01:05:32 -0400 (Sat, 03 May 2025) EllapsedTime: 42.7 seconds RetCode: 0 Status: OK PackageFile: scHOT_1.21.0.tgz PackageFileSize: 2.699 MiB