Package: scHOT Version: 1.19.0 Command: /Library/Frameworks/R.framework/Resources/bin/R CMD INSTALL scHOT StartedAt: 2025-02-03 15:42:51 -0500 (Mon, 03 Feb 2025) EndedAt: 2025-02-03 15:43:02 -0500 (Mon, 03 Feb 2025) EllapsedTime: 10.4 seconds RetCode: 0 Status: OK