Package: scGraphVerse Version: 0.99.21 Command: /home/biocbuild/R/R/bin/R CMD INSTALL scGraphVerse StartedAt: 2025-10-23 20:41:22 -0000 (Thu, 23 Oct 2025) EndedAt: 2025-10-23 20:42:03 -0000 (Thu, 23 Oct 2025) EllapsedTime: 40.4 seconds RetCode: 0 Status: OK