Package: scGraphVerse Version: 0.99.20 Command: /home/biocbuild/R/R/bin/R CMD build --keep-empty-dirs --no-resave-data scGraphVerse StartedAt: 2025-10-21 02:54:35 -0000 (Tue, 21 Oct 2025) EndedAt: 2025-10-21 03:02:28 -0000 (Tue, 21 Oct 2025) EllapsedTime: 473.2 seconds RetCode: 0 Status: OK PackageFile: scGraphVerse_0.99.20.tar.gz PackageFileSize: 3.006 MiB