Package: scGraphVerse Version: 1.1.0 Command: /home/biocbuild/bbs-3.23-bioc/R/bin/R CMD INSTALL scGraphVerse StartedAt: 2025-11-11 15:25:09 -0500 (Tue, 11 Nov 2025) EndedAt: 2025-11-11 15:25:37 -0500 (Tue, 11 Nov 2025) EllapsedTime: 28.9 seconds RetCode: 0 Status: OK