Package: scGraphVerse Version: 1.1.0 Command: /home/biocbuild/bbs-3.23-bioc/R/bin/R CMD build --keep-empty-dirs --no-resave-data scGraphVerse StartedAt: 2025-11-11 19:57:39 -0500 (Tue, 11 Nov 2025) EndedAt: 2025-11-11 20:04:06 -0500 (Tue, 11 Nov 2025) EllapsedTime: 387.3 seconds RetCode: 0 Status: OK PackageFile: scGraphVerse_1.1.0.tar.gz PackageFileSize: 3.567 MiB