Package: scGraphVerse Version: 0.99.19 Command: /Library/Frameworks/R.framework/Resources/bin/R CMD INSTALL scGraphVerse StartedAt: 2025-10-17 15:22:40 -0400 (Fri, 17 Oct 2025) EndedAt: 2025-10-17 15:23:22 -0400 (Fri, 17 Oct 2025) EllapsedTime: 42.2 seconds RetCode: 0 Status: OK