Package: scGPS Version: 1.23.0 Command: /Library/Frameworks/R.framework/Resources/bin/R CMD check --install=check:scGPS.install-out.txt --library=/Library/Frameworks/R.framework/Resources/library --no-vignettes --timings scGPS_1.23.0.tar.gz StartedAt: 2025-04-28 23:05:42 -0400 (Mon, 28 Apr 2025) EndedAt: 2025-04-28 23:14:19 -0400 (Mon, 28 Apr 2025) EllapsedTime: 517.3 seconds RetCode: 0 Status: OK CheckDir: scGPS.Rcheck Warnings: 0