Package: scGPS Version: 1.21.0 Command: /Library/Frameworks/R.framework/Resources/bin/R CMD build --keep-empty-dirs --no-resave-data scGPS StartedAt: 2025-01-30 18:05:28 -0500 (Thu, 30 Jan 2025) EndedAt: 2025-01-30 18:12:21 -0500 (Thu, 30 Jan 2025) EllapsedTime: 413.4 seconds RetCode: 0 Status: OK PackageFile: scGPS_1.21.0.tar.gz PackageFileSize: 2.031 MiB