Package: scGPS Version: 1.23.0 Command: rm -rf scGPS.buildbin-libdir && mkdir scGPS.buildbin-libdir && /Users/biocbuild/BBS/utils/build-universal.sh scGPS_1.23.0.tar.gz /Library/Frameworks/R.framework/Resources/bin/R scGPS.buildbin-libdir StartedAt: 2025-04-29 00:50:00 -0400 (Tue, 29 Apr 2025) EndedAt: 2025-04-29 00:51:12 -0400 (Tue, 29 Apr 2025) EllapsedTime: 71.6 seconds RetCode: 0 Status: OK PackageFile: scGPS_1.23.0.tgz PackageFileSize: 2.75 MiB