Package: scGPS Version: 1.23.0 Command: /Library/Frameworks/R.framework/Resources/bin/R CMD INSTALL scGPS StartedAt: 2025-04-29 15:11:42 -0400 (Tue, 29 Apr 2025) EndedAt: 2025-04-29 15:12:01 -0400 (Tue, 29 Apr 2025) EllapsedTime: 18.8 seconds RetCode: 0 Status: OK