Package: scGPS Version: 1.23.0 Command: /Library/Frameworks/R.framework/Resources/bin/R CMD check --install=check:scGPS.install-out.txt --library=/Library/Frameworks/R.framework/Resources/library --no-vignettes --timings scGPS_1.23.0.tar.gz StartedAt: 2025-05-16 21:09:06 -0400 (Fri, 16 May 2025) EndedAt: 2025-05-16 21:11:52 -0400 (Fri, 16 May 2025) EllapsedTime: 165.9 seconds RetCode: 0 Status: OK CheckDir: scGPS.Rcheck Warnings: 0