Package: scFeatures Version: 1.7.0 Command: /home/biocbuild/R/R/bin/R CMD build --keep-empty-dirs --no-resave-data scFeatures StartedAt: 2025-01-29 02:04:40 -0000 (Wed, 29 Jan 2025) EndedAt: 2025-01-29 02:07:12 -0000 (Wed, 29 Jan 2025) EllapsedTime: 152.1 seconds RetCode: 0 Status: OK PackageFile: scFeatures_1.7.0.tar.gz PackageFileSize: 2.914 MiB