Package: scDotPlot Version: 1.3.1 Command: /home/biocbuild/R/R/bin/R CMD INSTALL scDotPlot StartedAt: 2025-10-16 22:21:51 -0000 (Thu, 16 Oct 2025) EndedAt: 2025-10-16 22:22:47 -0000 (Thu, 16 Oct 2025) EllapsedTime: 55.9 seconds RetCode: 0 Status: OK