Package: scDotPlot Version: 1.3.1 Command: /home/biocbuild/bbs-3.22-bioc/R/bin/R CMD check --install=check:scDotPlot.install-out.txt --library=/home/biocbuild/bbs-3.22-bioc/R/site-library --timings scDotPlot_1.3.1.tar.gz StartedAt: 2025-10-28 03:44:28 -0400 (Tue, 28 Oct 2025) EndedAt: 2025-10-28 03:50:51 -0400 (Tue, 28 Oct 2025) EllapsedTime: 383.3 seconds RetCode: 0 Status: OK CheckDir: scDotPlot.Rcheck Warnings: 0