Package: scDotPlot Version: 1.1.0 Command: /home/biocbuild/R/R/bin/R CMD INSTALL scDotPlot StartedAt: 2025-01-29 20:34:37 -0000 (Wed, 29 Jan 2025) EndedAt: 2025-01-29 20:35:30 -0000 (Wed, 29 Jan 2025) EllapsedTime: 53.6 seconds RetCode: 0 Status: OK