Package: scDotPlot Version: 1.1.0 Command: /home/biocbuild/R/R/bin/R CMD build --keep-empty-dirs --no-resave-data scDotPlot StartedAt: 2025-01-29 02:03:24 -0000 (Wed, 29 Jan 2025) EndedAt: 2025-01-29 02:05:41 -0000 (Wed, 29 Jan 2025) EllapsedTime: 137.2 seconds RetCode: 0 Status: OK PackageFile: scDotPlot_1.1.0.tar.gz PackageFileSize: 927.9 KiB