Package: scDesign3 Version: 1.5.0 Command: E:\biocbuild\bbs-3.21-bioc\R\bin\R.exe CMD INSTALL scDesign3 StartedAt: 2025-02-03 16:43:59 -0500 (Mon, 03 Feb 2025) EndedAt: 2025-02-03 16:44:17 -0500 (Mon, 03 Feb 2025) EllapsedTime: 17.2 seconds RetCode: 0 Status: OK