Package: scDesign3 Version: 1.5.0 Command: /home/biocbuild/R/R/bin/R CMD INSTALL scDesign3 StartedAt: 2025-01-29 20:21:13 -0000 (Wed, 29 Jan 2025) EndedAt: 2025-01-29 20:21:25 -0000 (Wed, 29 Jan 2025) EllapsedTime: 11.9 seconds RetCode: 0 Status: OK