Package: scDesign3 Version: 1.5.0 Command: /Library/Frameworks/R.framework/Resources/bin/R CMD check --install=check:scDesign3.install-out.txt --library=/Library/Frameworks/R.framework/Resources/library --no-vignettes --timings scDesign3_1.5.0.tar.gz StartedAt: 2025-02-03 21:47:30 -0500 (Mon, 03 Feb 2025) EndedAt: 2025-02-03 21:48:29 -0500 (Mon, 03 Feb 2025) EllapsedTime: 59.7 seconds RetCode: 0 Status: OK CheckDir: scDesign3.Rcheck Warnings: 0