Package: scDblFinder Version: 1.21.1 Command: E:\biocbuild\bbs-3.21-bioc\R\bin\R.exe CMD INSTALL scDblFinder StartedAt: 2025-02-03 16:36:59 -0500 (Mon, 03 Feb 2025) EndedAt: 2025-02-03 16:38:01 -0500 (Mon, 03 Feb 2025) EllapsedTime: 61.8 seconds RetCode: 0 Status: OK